BEGIN:VCALENDAR
VERSION:2.0
PRODID:-//4DWN - ECPv6.15.16.1//NONSGML v1.0//EN
CALSCALE:GREGORIAN
METHOD:PUBLISH
X-WR-CALNAME:4DWN
X-ORIGINAL-URL:https://4dwn.org
X-WR-CALDESC:Events for 4DWN
REFRESH-INTERVAL;VALUE=DURATION:PT1H
X-Robots-Tag:noindex
X-PUBLISHED-TTL:PT1H
BEGIN:VTIMEZONE
TZID:UTC
BEGIN:STANDARD
TZOFFSETFROM:+0000
TZOFFSETTO:+0000
TZNAME:UTC
DTSTART:20250101T000000
END:STANDARD
END:VTIMEZONE
BEGIN:VEVENT
DTSTART;TZID=UTC:20260425T093000
DTEND;TZID=UTC:20260425T123000
DTSTAMP:20260423T124448
CREATED:20260126T191434Z
LAST-MODIFIED:20260126T191434Z
UID:1886-1777109400-1777120200@4dwn.org
SUMMARY:4DWN Babes
DESCRIPTION:
URL:https://4dwn.org/calendar/4dwn-babes-7/
LOCATION:4DWN\, 2663 Ferris St.\, Dallas\, TX\, 75226\, United States
CATEGORIES:4DWN Babes
ATTACH;FMTTYPE=image/heic:https://4dwn.org/wp-content/uploads/2026/01/IMG_9117.heic
END:VEVENT
BEGIN:VEVENT
DTSTART;TZID=UTC:20260426T090000
DTEND;TZID=UTC:20260426T120000
DTSTAMP:20260423T124448
CREATED:20260330T171212Z
LAST-MODIFIED:20260330T171212Z
UID:2247-1777194000-1777204800@4dwn.org
SUMMARY:Spread Love Sunday
DESCRIPTION:Spread Love Sunday is a community-powered\, non-profit session dedicated to making sure good food reaches the people who need it most. Every week\, volunteers gather to organize\, distribute\, and promote fresh\, nutritious food to local families — creating a welcoming space built on empathy\, dignity\, and connection. More than just a hand-out\, it’s a movement that builds awareness around food access\, strengthens neighbors helping neighbors\, and inspires a culture of giving back. Spread Love Sunday turns generosity into action — one Sunday\, one family\, one meal at a time.
URL:https://4dwn.org/calendar/spread-love-sunday-22/
LOCATION:4DWN\, 2663 Ferris St.\, Dallas\, TX\, 75226\, United States
CATEGORIES:Sunday Service
ATTACH;FMTTYPE=image/jpeg:https://4dwn.org/wp-content/uploads/2023/03/4DWN_-178.jpg
END:VEVENT
BEGIN:VEVENT
DTSTART;TZID=UTC:20260429T160000
DTEND;TZID=UTC:20260429T190000
DTSTAMP:20260423T124448
CREATED:20260330T152415Z
LAST-MODIFIED:20260330T152415Z
UID:2239-1777478400-1777489200@4dwn.org
SUMMARY:Grill & Chill
DESCRIPTION:Grill & Chill is a free community session where skaters\, families\, and neighbors come together to eat\, skate\, connect\, and build real understanding. It’s a laid-back space that breaks down barriers and builds up belonging — sharing food\, sharing stories\, and sharing the vibe of what a stronger community can feel like. From beginners to seasoned shredders\, everyone is welcome. Grill & Chill isn’t just a hangout — it’s a spark for better conversations\, better relationships\, and a better community.
URL:https://4dwn.org/calendar/grill-chill-33/
LOCATION:4DWN\, 2663 Ferris St.\, Dallas\, TX\, 75226\, United States
CATEGORIES:Grill & Chill
ATTACH;FMTTYPE=image/jpeg:https://4dwn.org/wp-content/uploads/2023/03/4DWN_-112.jpg
END:VEVENT
BEGIN:VEVENT
DTSTART;TZID=UTC:20260509T093000
DTEND;TZID=UTC:20260509T123000
DTSTAMP:20260423T124448
CREATED:20260126T191616Z
LAST-MODIFIED:20260126T191616Z
UID:1888-1778319000-1778329800@4dwn.org
SUMMARY:4DWN Babes
DESCRIPTION:
URL:https://4dwn.org/calendar/4dwn-babes-8/
LOCATION:4DWN\, 2663 Ferris St.\, Dallas\, TX\, 75226\, United States
CATEGORIES:4DWN Babes
ATTACH;FMTTYPE=image/heic:https://4dwn.org/wp-content/uploads/2026/01/IMG_9117.heic
END:VEVENT
BEGIN:VEVENT
DTSTART;TZID=UTC:20260516T180000
DTEND;TZID=UTC:20260516T220000
DTSTAMP:20260423T124448
CREATED:20260106T175124Z
LAST-MODIFIED:20260106T175124Z
UID:1725-1778954400-1778968800@4dwn.org
SUMMARY:Shred The Mic
DESCRIPTION:
URL:https://4dwn.org/calendar/shred-the-mic-6/
LOCATION:4DWN\, 2663 Ferris St.\, Dallas\, TX\, 75226\, United States
CATEGORIES:Shred The Mic
ATTACH;FMTTYPE=image/jpeg:https://4dwn.org/wp-content/uploads/2025/11/IMG_4409.jpeg
END:VEVENT
BEGIN:VEVENT
DTSTART;VALUE=DATE:20260522
DTEND;VALUE=DATE:20260524
DTSTAMP:20260423T124448
CREATED:20260223T174105Z
LAST-MODIFIED:20260312T022810Z
UID:2152-1779408000-1779580799@4dwn.org
SUMMARY:COME AND SKATE IT - BOARDER VERTICAL CONTEST -
DESCRIPTION:Join us at the Come And Skate It vert contest put on by the boarder.\nCONTEST SIGN-UP \n$$$ Pro/Am        –       $$$ Best Trick \nThe division’s are\,\n\n12 and under\n13-18\nAdvanced women\nAdvanced men\nMasters\nPro/Legends Jam\n\nCONTEST SIGN-UP
URL:https://4dwn.org/calendar/come-and-skate-it-vertical-contest/
LOCATION:4DWN\, 2663 Ferris St.\, Dallas\, TX\, 75226\, United States
CATEGORIES:Boarder Vert Contest,Special Event
ATTACH;FMTTYPE=image/jpeg:https://4dwn.org/wp-content/uploads/2026/02/IMG_1776.jpeg
END:VEVENT
BEGIN:VEVENT
DTSTART;TZID=UTC:20260523T093000
DTEND;TZID=UTC:20260523T123000
DTSTAMP:20260423T124448
CREATED:20260126T191704Z
LAST-MODIFIED:20260126T191704Z
UID:1890-1779528600-1779539400@4dwn.org
SUMMARY:4DWN Babes
DESCRIPTION:
URL:https://4dwn.org/calendar/4dwn-babes-9/
LOCATION:4DWN\, 2663 Ferris St.\, Dallas\, TX\, 75226\, United States
CATEGORIES:4DWN Babes
ATTACH;FMTTYPE=image/heic:https://4dwn.org/wp-content/uploads/2026/01/IMG_9117.heic
END:VEVENT
BEGIN:VEVENT
DTSTART;TZID=UTC:20260612T093000
DTEND;TZID=UTC:20260612T123000
DTSTAMP:20260423T124448
CREATED:20260126T191802Z
LAST-MODIFIED:20260126T191802Z
UID:1892-1781256600-1781267400@4dwn.org
SUMMARY:4DWN Babes
DESCRIPTION:
URL:https://4dwn.org/calendar/4dwn-babes-10/
LOCATION:4DWN\, 2663 Ferris St.\, Dallas\, TX\, 75226\, United States
CATEGORIES:4DWN Babes
ATTACH;FMTTYPE=image/heic:https://4dwn.org/wp-content/uploads/2026/01/IMG_9117.heic
END:VEVENT
BEGIN:VEVENT
DTSTART;TZID=UTC:20260620T180000
DTEND;TZID=UTC:20260620T220000
DTSTAMP:20260423T124448
CREATED:20260106T175230Z
LAST-MODIFIED:20260106T175230Z
UID:1727-1781978400-1781992800@4dwn.org
SUMMARY:Shred The Mic
DESCRIPTION:
URL:https://4dwn.org/calendar/shred-the-mic-7/
LOCATION:4DWN\, 2663 Ferris St.\, Dallas\, TX\, 75226\, United States
CATEGORIES:Shred The Mic
ATTACH;FMTTYPE=image/jpeg:https://4dwn.org/wp-content/uploads/2025/11/IMG_4409.jpeg
END:VEVENT
BEGIN:VEVENT
DTSTART;TZID=UTC:20260626T093000
DTEND;TZID=UTC:20260626T123000
DTSTAMP:20260423T124448
CREATED:20260126T191902Z
LAST-MODIFIED:20260126T191902Z
UID:1894-1782466200-1782477000@4dwn.org
SUMMARY:4DWN Babes
DESCRIPTION:
URL:https://4dwn.org/calendar/4dwn-babes-11/
LOCATION:4DWN\, 2663 Ferris St.\, Dallas\, TX\, 75226\, United States
CATEGORIES:4DWN Babes
ATTACH;FMTTYPE=image/heic:https://4dwn.org/wp-content/uploads/2026/01/IMG_9117.heic
END:VEVENT
BEGIN:VEVENT
DTSTART;TZID=UTC:20260710T093000
DTEND;TZID=UTC:20260710T123000
DTSTAMP:20260423T124448
CREATED:20260126T191955Z
LAST-MODIFIED:20260126T191955Z
UID:1896-1783675800-1783686600@4dwn.org
SUMMARY:4DWN Babes
DESCRIPTION:
URL:https://4dwn.org/calendar/4dwn-babes-12/
LOCATION:4DWN\, 2663 Ferris St.\, Dallas\, TX\, 75226\, United States
CATEGORIES:4DWN Babes
ATTACH;FMTTYPE=image/heic:https://4dwn.org/wp-content/uploads/2026/01/IMG_9117.heic
END:VEVENT
BEGIN:VEVENT
DTSTART;TZID=UTC:20260718T180000
DTEND;TZID=UTC:20260718T220000
DTSTAMP:20260423T124448
CREATED:20260106T175600Z
LAST-MODIFIED:20260106T175600Z
UID:1729-1784397600-1784412000@4dwn.org
SUMMARY:Shred The Mic
DESCRIPTION:
URL:https://4dwn.org/calendar/shred-the-mic-8/
LOCATION:4DWN\, 2663 Ferris St.\, Dallas\, TX\, 75226\, United States
CATEGORIES:Shred The Mic
ATTACH;FMTTYPE=image/jpeg:https://4dwn.org/wp-content/uploads/2025/11/IMG_4409.jpeg
END:VEVENT
BEGIN:VEVENT
DTSTART;TZID=UTC:20260815T180000
DTEND;TZID=UTC:20260815T220000
DTSTAMP:20260423T124448
CREATED:20260106T175710Z
LAST-MODIFIED:20260106T175710Z
UID:1731-1786816800-1786831200@4dwn.org
SUMMARY:Shred The Mic
DESCRIPTION:
URL:https://4dwn.org/calendar/shred-the-mic-9/
LOCATION:4DWN\, 2663 Ferris St.\, Dallas\, TX\, 75226\, United States
CATEGORIES:Shred The Mic
ATTACH;FMTTYPE=image/jpeg:https://4dwn.org/wp-content/uploads/2025/11/IMG_4409.jpeg
END:VEVENT
BEGIN:VEVENT
DTSTART;TZID=UTC:20260919T180000
DTEND;TZID=UTC:20260919T220000
DTSTAMP:20260423T124448
CREATED:20260106T180011Z
LAST-MODIFIED:20260106T180011Z
UID:1733-1789840800-1789855200@4dwn.org
SUMMARY:Shred The Mic
DESCRIPTION:
URL:https://4dwn.org/calendar/shred-the-mic-10/
LOCATION:4DWN\, 2663 Ferris St.\, Dallas\, TX\, 75226\, United States
CATEGORIES:Shred The Mic
ATTACH;FMTTYPE=image/jpeg:https://4dwn.org/wp-content/uploads/2025/11/IMG_4409.jpeg
END:VEVENT
BEGIN:VEVENT
DTSTART;TZID=UTC:20261017T180000
DTEND;TZID=UTC:20261017T220000
DTSTAMP:20260423T124448
CREATED:20260106T180108Z
LAST-MODIFIED:20260106T180108Z
UID:1735-1792260000-1792274400@4dwn.org
SUMMARY:Shred The Mic
DESCRIPTION:
URL:https://4dwn.org/calendar/shred-the-mic-11/
LOCATION:4DWN\, 2663 Ferris St.\, Dallas\, TX\, 75226\, United States
CATEGORIES:Shred The Mic
ATTACH;FMTTYPE=image/jpeg:https://4dwn.org/wp-content/uploads/2025/11/IMG_4409.jpeg
END:VEVENT
BEGIN:VEVENT
DTSTART;TZID=UTC:20261121T180000
DTEND;TZID=UTC:20261121T220000
DTSTAMP:20260423T124448
CREATED:20260106T180220Z
LAST-MODIFIED:20260106T180220Z
UID:1737-1795284000-1795298400@4dwn.org
SUMMARY:Shred The Mic
DESCRIPTION:
URL:https://4dwn.org/calendar/shred-the-mic-12/
LOCATION:4DWN\, 2663 Ferris St.\, Dallas\, TX\, 75226\, United States
CATEGORIES:Shred The Mic
ATTACH;FMTTYPE=image/jpeg:https://4dwn.org/wp-content/uploads/2025/11/IMG_4409.jpeg
END:VEVENT
BEGIN:VEVENT
DTSTART;TZID=UTC:20261219T180000
DTEND;TZID=UTC:20261219T220000
DTSTAMP:20260423T124448
CREATED:20260106T180335Z
LAST-MODIFIED:20260106T182144Z
UID:1739-1797703200-1797717600@4dwn.org
SUMMARY:Shred The mic
DESCRIPTION:Shred The Mic @ 4DWN Skatepark\nHosted by Cortez Skate Shop \nWhat it isShred The Mic is a community-driven live performance night that brings together local comedians and performers inside the unique setting of 4DWN Skatepark. It blends skate culture with live entertainment\, creating something that feels more like a hangout than a traditional show. \nThe vibe is casual\, loud\, and welcoming. People come to support local talent\, laugh\, and chill in a skatepark environment rather than a formal venue. \nWhat to expect \n\n\nStand-up comedy and live performances \n\n\nLocal creatives and artists on the mic \n\n\nA crowd that’s there to have fun and support the scene \n\n\nFood and drinks available at some events
URL:https://4dwn.org/calendar/shred-the-mic-13/
LOCATION:4DWN\, 2663 Ferris St.\, Dallas\, TX\, 75226\, United States
CATEGORIES:Shred The Mic
ATTACH;FMTTYPE=image/jpeg:https://4dwn.org/wp-content/uploads/2025/11/IMG_4409.jpeg
END:VEVENT
END:VCALENDAR