BEGIN:VCALENDAR
VERSION:2.0
PRODID:-//4DWN - ECPv6.15.16.1//NONSGML v1.0//EN
CALSCALE:GREGORIAN
METHOD:PUBLISH
X-WR-CALNAME:4DWN
X-ORIGINAL-URL:https://4dwn.org
X-WR-CALDESC:Events for 4DWN
REFRESH-INTERVAL;VALUE=DURATION:PT1H
X-Robots-Tag:noindex
X-PUBLISHED-TTL:PT1H
BEGIN:VTIMEZONE
TZID:UTC
BEGIN:STANDARD
TZOFFSETFROM:+0000
TZOFFSETTO:+0000
TZNAME:UTC
DTSTART:20250101T000000
END:STANDARD
END:VTIMEZONE
BEGIN:VEVENT
DTSTART;TZID=UTC:20260509T093000
DTEND;TZID=UTC:20260509T123000
DTSTAMP:20260423T211440
CREATED:20260126T191616Z
LAST-MODIFIED:20260126T191616Z
UID:1888-1778319000-1778329800@4dwn.org
SUMMARY:4DWN Babes
DESCRIPTION:
URL:https://4dwn.org/calendar/4dwn-babes-8/
LOCATION:4DWN\, 2663 Ferris St.\, Dallas\, TX\, 75226\, United States
CATEGORIES:4DWN Babes
ATTACH;FMTTYPE=image/heic:https://4dwn.org/wp-content/uploads/2026/01/IMG_9117.heic
END:VEVENT
BEGIN:VEVENT
DTSTART;TZID=UTC:20260523T093000
DTEND;TZID=UTC:20260523T123000
DTSTAMP:20260423T211440
CREATED:20260126T191704Z
LAST-MODIFIED:20260126T191704Z
UID:1890-1779528600-1779539400@4dwn.org
SUMMARY:4DWN Babes
DESCRIPTION:
URL:https://4dwn.org/calendar/4dwn-babes-9/
LOCATION:4DWN\, 2663 Ferris St.\, Dallas\, TX\, 75226\, United States
CATEGORIES:4DWN Babes
ATTACH;FMTTYPE=image/heic:https://4dwn.org/wp-content/uploads/2026/01/IMG_9117.heic
END:VEVENT
END:VCALENDAR