BEGIN:VCALENDAR
VERSION:2.0
PRODID:-//4DWN - ECPv6.15.16.1//NONSGML v1.0//EN
CALSCALE:GREGORIAN
METHOD:PUBLISH
X-ORIGINAL-URL:https://4dwn.org
X-WR-CALDESC:Events for 4DWN
REFRESH-INTERVAL;VALUE=DURATION:PT1H
X-Robots-Tag:noindex
X-PUBLISHED-TTL:PT1H
BEGIN:VTIMEZONE
TZID:UTC
BEGIN:STANDARD
TZOFFSETFROM:+0000
TZOFFSETTO:+0000
TZNAME:UTC
DTSTART:20240101T000000
END:STANDARD
END:VTIMEZONE
BEGIN:VEVENT
DTSTART;TZID=UTC:20260411T093000
DTEND;TZID=UTC:20260411T123000
DTSTAMP:20260423T194142
CREATED:20260126T191346Z
LAST-MODIFIED:20260126T191346Z
UID:1884-1775899800-1775910600@4dwn.org
SUMMARY:4DWN Babes
DESCRIPTION:
URL:https://4dwn.org/calendar/4dwn-babes-6/
LOCATION:4DWN\, 2663 Ferris St.\, Dallas\, TX\, 75226\, United States
CATEGORIES:4DWN Babes
ATTACH;FMTTYPE=image/heic:https://4dwn.org/wp-content/uploads/2026/01/IMG_9117.heic
END:VEVENT
BEGIN:VEVENT
DTSTART;TZID=UTC:20260328T093000
DTEND;TZID=UTC:20260328T123000
DTSTAMP:20260423T194142
CREATED:20260126T191247Z
LAST-MODIFIED:20260126T191247Z
UID:1882-1774690200-1774701000@4dwn.org
SUMMARY:4DWN Babes
DESCRIPTION:
URL:https://4dwn.org/calendar/4dwn-babes-5/
LOCATION:4DWN\, 2663 Ferris St.\, Dallas\, TX\, 75226\, United States
CATEGORIES:4DWN Babes
ATTACH;FMTTYPE=image/heic:https://4dwn.org/wp-content/uploads/2026/01/IMG_9117.heic
END:VEVENT
BEGIN:VEVENT
DTSTART;TZID=UTC:20260314T093000
DTEND;TZID=UTC:20260314T123000
DTSTAMP:20260423T194142
CREATED:20260126T191202Z
LAST-MODIFIED:20260126T191202Z
UID:1880-1773480600-1773491400@4dwn.org
SUMMARY:4DWN Babes
DESCRIPTION:
URL:https://4dwn.org/calendar/4dwn-babes-4/
LOCATION:4DWN\, 2663 Ferris St.\, Dallas\, TX\, 75226\, United States
CATEGORIES:4DWN Babes
ATTACH;FMTTYPE=image/heic:https://4dwn.org/wp-content/uploads/2026/01/IMG_9117.heic
END:VEVENT
BEGIN:VEVENT
DTSTART;TZID=UTC:20260228T093000
DTEND;TZID=UTC:20260228T123000
DTSTAMP:20260423T194142
CREATED:20260126T190819Z
LAST-MODIFIED:20260126T190819Z
UID:1877-1772271000-1772281800@4dwn.org
SUMMARY:4DWN Babes
DESCRIPTION:
URL:https://4dwn.org/calendar/4dwn-babes-3/
LOCATION:4DWN\, 2663 Ferris St.\, Dallas\, TX\, 75226\, United States
CATEGORIES:4DWN Babes
ATTACH;FMTTYPE=image/heic:https://4dwn.org/wp-content/uploads/2026/01/IMG_9117.heic
END:VEVENT
BEGIN:VEVENT
DTSTART;TZID=UTC:20260214T093000
DTEND;TZID=UTC:20260214T123000
DTSTAMP:20260423T194142
CREATED:20260126T180025Z
LAST-MODIFIED:20260126T190922Z
UID:1871-1771061400-1771072200@4dwn.org
SUMMARY:4DWN Babes
DESCRIPTION:
URL:https://4dwn.org/calendar/4dwn-babwes/
LOCATION:4DWN\, 2663 Ferris St.\, Dallas\, TX\, 75226\, United States
CATEGORIES:4DWN Babes
ATTACH;FMTTYPE=image/heic:https://4dwn.org/wp-content/uploads/2026/01/IMG_9117.heic
END:VEVENT
BEGIN:VEVENT
DTSTART;TZID=UTC:20251220T093000
DTEND;TZID=UTC:20251220T123000
DTSTAMP:20260423T194142
CREATED:20251125T185520Z
LAST-MODIFIED:20251125T185520Z
UID:1622-1766223000-1766233800@4dwn.org
SUMMARY:4DWN Babes
DESCRIPTION:
URL:https://4dwn.org/calendar/4dwn-babes-2/
LOCATION:TX
CATEGORIES:4DWN Babes
END:VEVENT
BEGIN:VEVENT
DTSTART;TZID=UTC:20251205T190000
DTEND;TZID=UTC:20251205T220000
DTSTAMP:20260423T194142
CREATED:20251125T185419Z
LAST-MODIFIED:20251129T155940Z
UID:1620-1764961200-1764972000@4dwn.org
SUMMARY:4DWN Babes
DESCRIPTION:
URL:https://4dwn.org/calendar/4dwn-babes/
LOCATION:4DWN\, 2663 Ferris St.\, Dallas\, TX\, 75226\, United States
CATEGORIES:4DWN Babes
END:VEVENT
END:VCALENDAR