BEGIN:VCALENDAR
VERSION:2.0
PRODID:-//4DWN - ECPv6.15.16.1//NONSGML v1.0//EN
CALSCALE:GREGORIAN
METHOD:PUBLISH
X-ORIGINAL-URL:https://4dwn.org
X-WR-CALDESC:Events for 4DWN
REFRESH-INTERVAL;VALUE=DURATION:PT1H
X-Robots-Tag:noindex
X-PUBLISHED-TTL:PT1H
BEGIN:VTIMEZONE
TZID:UTC
BEGIN:STANDARD
TZOFFSETFROM:+0000
TZOFFSETTO:+0000
TZNAME:UTC
DTSTART:20250101T000000
END:STANDARD
END:VTIMEZONE
BEGIN:VEVENT
DTSTART;TZID=UTC:20260304T160000
DTEND;TZID=UTC:20260304T190000
DTSTAMP:20260424T001356
CREATED:20260106T183358Z
LAST-MODIFIED:20260106T183358Z
UID:1752-1772640000-1772650800@4dwn.org
SUMMARY:Grill & Chill
DESCRIPTION:Grill & Chill is a free community session where skaters\, families\, and neighbors come together to eat\, skate\, connect\, and build real understanding. It’s a laid-back space that breaks down barriers and builds up belonging — sharing food\, sharing stories\, and sharing the vibe of what a stronger community can feel like. From beginners to seasoned shredders\, everyone is welcome. Grill & Chill isn’t just a hangout — it’s a spark for better conversations\, better relationships\, and a better community.
URL:https://4dwn.org/calendar/grill-chill-25/
LOCATION:4DWN\, 2663 Ferris St.\, Dallas\, TX\, 75226\, United States
CATEGORIES:Grill & Chill
ATTACH;FMTTYPE=image/png:https://4dwn.org/wp-content/uploads/2025/11/Skate.png
END:VEVENT
BEGIN:VEVENT
DTSTART;TZID=UTC:20260311T160000
DTEND;TZID=UTC:20260311T190000
DTSTAMP:20260424T001356
CREATED:20260106T183448Z
LAST-MODIFIED:20260106T183448Z
UID:1754-1773244800-1773255600@4dwn.org
SUMMARY:Grill & Chill
DESCRIPTION:Grill & Chill is a free community session where skaters\, families\, and neighbors come together to eat\, skate\, connect\, and build real understanding. It’s a laid-back space that breaks down barriers and builds up belonging — sharing food\, sharing stories\, and sharing the vibe of what a stronger community can feel like. From beginners to seasoned shredders\, everyone is welcome. Grill & Chill isn’t just a hangout — it’s a spark for better conversations\, better relationships\, and a better community.
URL:https://4dwn.org/calendar/grill-chill-26/
LOCATION:4DWN\, 2663 Ferris St.\, Dallas\, TX\, 75226\, United States
CATEGORIES:Grill & Chill
ATTACH;FMTTYPE=image/png:https://4dwn.org/wp-content/uploads/2025/11/Skate.png
END:VEVENT
BEGIN:VEVENT
DTSTART;TZID=UTC:20260318T160000
DTEND;TZID=UTC:20260318T190000
DTSTAMP:20260424T001356
CREATED:20260106T183631Z
LAST-MODIFIED:20260106T183631Z
UID:1756-1773849600-1773860400@4dwn.org
SUMMARY:Grill & Chill
DESCRIPTION:Grill & Chill is a free community session where skaters\, families\, and neighbors come together to eat\, skate\, connect\, and build real understanding. It’s a laid-back space that breaks down barriers and builds up belonging — sharing food\, sharing stories\, and sharing the vibe of what a stronger community can feel like. From beginners to seasoned shredders\, everyone is welcome. Grill & Chill isn’t just a hangout — it’s a spark for better conversations\, better relationships\, and a better community.
URL:https://4dwn.org/calendar/grill-chill-27/
LOCATION:4DWN\, 2663 Ferris St.\, Dallas\, TX\, 75226\, United States
CATEGORIES:Grill & Chill
ATTACH;FMTTYPE=image/png:https://4dwn.org/wp-content/uploads/2025/11/Skate.png
END:VEVENT
BEGIN:VEVENT
DTSTART;TZID=UTC:20260325T080000
DTEND;TZID=UTC:20260325T170000
DTSTAMP:20260424T001356
CREATED:20260106T183749Z
LAST-MODIFIED:20260106T183749Z
UID:1758-1774425600-1774458000@4dwn.org
SUMMARY:Grill & Chill
DESCRIPTION:Grill & Chill is a free community session where skaters\, families\, and neighbors come together to eat\, skate\, connect\, and build real understanding. It’s a laid-back space that breaks down barriers and builds up belonging — sharing food\, sharing stories\, and sharing the vibe of what a stronger community can feel like. From beginners to seasoned shredders\, everyone is welcome. Grill & Chill isn’t just a hangout — it’s a spark for better conversations\, better relationships\, and a better community.
URL:https://4dwn.org/calendar/grill-chill-28/
LOCATION:4DWN\, 2663 Ferris St.\, Dallas\, TX\, 75226\, United States
CATEGORIES:Grill & Chill
ATTACH;FMTTYPE=image/png:https://4dwn.org/wp-content/uploads/2025/11/Skate.png
END:VEVENT
END:VCALENDAR