BEGIN:VCALENDAR
VERSION:2.0
PRODID:-//4DWN - ECPv6.15.16.1//NONSGML v1.0//EN
CALSCALE:GREGORIAN
METHOD:PUBLISH
X-WR-CALNAME:4DWN
X-ORIGINAL-URL:https://4dwn.org
X-WR-CALDESC:Events for 4DWN
REFRESH-INTERVAL;VALUE=DURATION:PT1H
X-Robots-Tag:noindex
X-PUBLISHED-TTL:PT1H
BEGIN:VTIMEZONE
TZID:UTC
BEGIN:STANDARD
TZOFFSETFROM:+0000
TZOFFSETTO:+0000
TZNAME:UTC
DTSTART:20220101T000000
END:STANDARD
END:VTIMEZONE
BEGIN:VTIMEZONE
TZID:America/Chicago
BEGIN:DAYLIGHT
TZOFFSETFROM:-0600
TZOFFSETTO:-0500
TZNAME:CDT
DTSTART:20220313T080000
END:DAYLIGHT
BEGIN:STANDARD
TZOFFSETFROM:-0500
TZOFFSETTO:-0600
TZNAME:CST
DTSTART:20221106T070000
END:STANDARD
BEGIN:DAYLIGHT
TZOFFSETFROM:-0600
TZOFFSETTO:-0500
TZNAME:CDT
DTSTART:20230312T080000
END:DAYLIGHT
BEGIN:STANDARD
TZOFFSETFROM:-0500
TZOFFSETTO:-0600
TZNAME:CST
DTSTART:20231105T070000
END:STANDARD
BEGIN:DAYLIGHT
TZOFFSETFROM:-0600
TZOFFSETTO:-0500
TZNAME:CDT
DTSTART:20240310T080000
END:DAYLIGHT
BEGIN:STANDARD
TZOFFSETFROM:-0500
TZOFFSETTO:-0600
TZNAME:CST
DTSTART:20241103T070000
END:STANDARD
END:VTIMEZONE
BEGIN:VEVENT
DTSTART;TZID=UTC:20230326T090000
DTEND;TZID=UTC:20230326T160000
DTSTAMP:20260424T183836
CREATED:20230319T204020Z
LAST-MODIFIED:20230319T204215Z
UID:600-1679821200-1679846400@4dwn.org
SUMMARY:Open Hours
DESCRIPTION:Open to the public
URL:https://4dwn.org/calendar/open-hours-8/
CATEGORIES:Open Hours
ATTACH;FMTTYPE=image/jpeg:https://4dwn.org/wp-content/uploads/2023/03/IMG_9851.jpeg
END:VEVENT
BEGIN:VEVENT
DTSTART;TZID=UTC:20230325T120000
DTEND;TZID=UTC:20230325T180000
DTSTAMP:20260424T183836
CREATED:20230319T184723Z
LAST-MODIFIED:20230319T184723Z
UID:584-1679745600-1679767200@4dwn.org
SUMMARY:Open Hours
DESCRIPTION:Facility open to the public
URL:https://4dwn.org/calendar/open-hours-4/
CATEGORIES:Open Hours
ATTACH;FMTTYPE=image/jpeg:https://4dwn.org/wp-content/uploads/2023/03/IMG_9851.jpeg
END:VEVENT
BEGIN:VEVENT
DTSTART;TZID=UTC:20230319T090000
DTEND;TZID=UTC:20230319T160000
DTSTAMP:20260424T183836
CREATED:20230319T203942Z
LAST-MODIFIED:20230319T204145Z
UID:598-1679216400-1679241600@4dwn.org
SUMMARY:Open Hours
DESCRIPTION:Open to the public
URL:https://4dwn.org/calendar/open-hours-7/
CATEGORIES:Open Hours
ATTACH;FMTTYPE=image/jpeg:https://4dwn.org/wp-content/uploads/2023/03/IMG_9851.jpeg
END:VEVENT
BEGIN:VEVENT
DTSTART;TZID=America/Chicago:20230318T120000
DTEND;TZID=America/Chicago:20230318T180000
DTSTAMP:20260424T183836
CREATED:20230318T215212Z
LAST-MODIFIED:20230319T183345Z
UID:425-1679140800-1679162400@4dwn.org
SUMMARY:Open Hours
DESCRIPTION:Facility open to the public
URL:https://4dwn.org/calendar/open-hours/
CATEGORIES:Open Hours
ATTACH;FMTTYPE=image/jpeg:https://4dwn.org/wp-content/uploads/2023/03/IMG_9851.jpeg
END:VEVENT
BEGIN:VEVENT
DTSTART;TZID=UTC:20230312T090000
DTEND;TZID=UTC:20230312T160000
DTSTAMP:20260424T183836
CREATED:20230319T203856Z
LAST-MODIFIED:20230319T204116Z
UID:596-1678611600-1678636800@4dwn.org
SUMMARY:Open Hours
DESCRIPTION:Open to the public
URL:https://4dwn.org/calendar/open-hours-6/
CATEGORIES:Open Hours
ATTACH;FMTTYPE=image/jpeg:https://4dwn.org/wp-content/uploads/2023/03/IMG_9851.jpeg
END:VEVENT
BEGIN:VEVENT
DTSTART;TZID=UTC:20230311T120000
DTEND;TZID=UTC:20230311T180000
DTSTAMP:20260424T183836
CREATED:20230319T183837Z
LAST-MODIFIED:20230319T183837Z
UID:582-1678536000-1678557600@4dwn.org
SUMMARY:Open Hours
DESCRIPTION:Facility open to the public
URL:https://4dwn.org/calendar/open-hours-3/
CATEGORIES:Open Hours
ATTACH;FMTTYPE=image/jpeg:https://4dwn.org/wp-content/uploads/2023/03/IMG_9851.jpeg
END:VEVENT
BEGIN:VEVENT
DTSTART;TZID=UTC:20230305T090000
DTEND;TZID=UTC:20230305T160000
DTSTAMP:20260424T183836
CREATED:20230319T203108Z
LAST-MODIFIED:20230319T203108Z
UID:594-1678006800-1678032000@4dwn.org
SUMMARY:Open Hours
DESCRIPTION:Open to the public
URL:https://4dwn.org/calendar/open-hours-5/
CATEGORIES:Open Hours
ATTACH;FMTTYPE=image/jpeg:https://4dwn.org/wp-content/uploads/2023/03/IMG_9851.jpeg
END:VEVENT
BEGIN:VEVENT
DTSTART;TZID=UTC:20230304T120000
DTEND;TZID=UTC:20230304T180000
DTSTAMP:20260424T183836
CREATED:20230319T183736Z
LAST-MODIFIED:20230319T183736Z
UID:580-1677931200-1677952800@4dwn.org
SUMMARY:Open Hours
DESCRIPTION:Facility open to the public
URL:https://4dwn.org/calendar/open-hours-2/
CATEGORIES:Open Hours
ATTACH;FMTTYPE=image/jpeg:https://4dwn.org/wp-content/uploads/2023/03/IMG_9851.jpeg
END:VEVENT
END:VCALENDAR