BEGIN:VCALENDAR
VERSION:2.0
PRODID:-//4DWN - ECPv6.15.16.1//NONSGML v1.0//EN
CALSCALE:GREGORIAN
METHOD:PUBLISH
X-WR-CALNAME:4DWN
X-ORIGINAL-URL:https://4dwn.org
X-WR-CALDESC:Events for 4DWN
REFRESH-INTERVAL;VALUE=DURATION:PT1H
X-Robots-Tag:noindex
X-PUBLISHED-TTL:PT1H
BEGIN:VTIMEZONE
TZID:UTC
BEGIN:STANDARD
TZOFFSETFROM:+0000
TZOFFSETTO:+0000
TZNAME:UTC
DTSTART:20250101T000000
END:STANDARD
END:VTIMEZONE
BEGIN:VEVENT
DTSTART;VALUE=DATE:20260522
DTEND;VALUE=DATE:20260524
DTSTAMP:20260423T210400
CREATED:20260223T174105Z
LAST-MODIFIED:20260312T022810Z
UID:2152-1779408000-1779580799@4dwn.org
SUMMARY:COME AND SKATE IT - BOARDER VERTICAL CONTEST -
DESCRIPTION:Join us at the Come And Skate It vert contest put on by the boarder.\nCONTEST SIGN-UP \n$$$ Pro/Am        –       $$$ Best Trick \nThe division’s are\,\n\n12 and under\n13-18\nAdvanced women\nAdvanced men\nMasters\nPro/Legends Jam\n\nCONTEST SIGN-UP
URL:https://4dwn.org/calendar/come-and-skate-it-vertical-contest/
LOCATION:4DWN\, 2663 Ferris St.\, Dallas\, TX\, 75226\, United States
CATEGORIES:Boarder Vert Contest,Special Event
ATTACH;FMTTYPE=image/jpeg:https://4dwn.org/wp-content/uploads/2026/02/IMG_1776.jpeg
END:VEVENT
END:VCALENDAR