BEGIN:VCALENDAR
VERSION:2.0
PRODID:-//4DWN - ECPv6.15.16.1//NONSGML v1.0//EN
CALSCALE:GREGORIAN
METHOD:PUBLISH
X-ORIGINAL-URL:https://4dwn.org
X-WR-CALDESC:Events for 4DWN
REFRESH-INTERVAL;VALUE=DURATION:PT1H
X-Robots-Tag:noindex
X-PUBLISHED-TTL:PT1H
BEGIN:VTIMEZONE
TZID:UTC
BEGIN:STANDARD
TZOFFSETFROM:+0000
TZOFFSETTO:+0000
TZNAME:UTC
DTSTART:20250101T000000
END:STANDARD
END:VTIMEZONE
BEGIN:VEVENT
DTSTART;TZID=UTC:20260104T090000
DTEND;TZID=UTC:20260104T120000
DTSTAMP:20260424T015420
CREATED:20251118T173839Z
LAST-MODIFIED:20251118T173839Z
UID:1607-1767517200-1767528000@4dwn.org
SUMMARY:Spread Love Sunday
DESCRIPTION:Spread Love Sunday is a community-powered\, non-profit session dedicated to making sure good food reaches the people who need it most. Every week\, volunteers gather to organize\, distribute\, and promote fresh\, nutritious food to local families — creating a welcoming space built on empathy\, dignity\, and connection. More than just a hand-out\, it’s a movement that builds awareness around food access\, strengthens neighbors helping neighbors\, and inspires a culture of giving back. Spread Love Sunday turns generosity into action — one Sunday\, one family\, one meal at a time.
URL:https://4dwn.org/calendar/spread-love-sunday-8/
LOCATION:4DWN\, 2663 Ferris St.\, Dallas\, TX\, 75226\, United States
CATEGORIES:Spread Love Sunday
ATTACH;FMTTYPE=image/png:https://4dwn.org/wp-content/uploads/2025/11/SpreadLove.png
END:VEVENT
BEGIN:VEVENT
DTSTART;TZID=UTC:20260111T090000
DTEND;TZID=UTC:20260111T120000
DTSTAMP:20260424T015420
CREATED:20251118T173925Z
LAST-MODIFIED:20251118T173925Z
UID:1609-1768122000-1768132800@4dwn.org
SUMMARY:Spread Love Sunday
DESCRIPTION:Spread Love Sunday is a community-powered\, non-profit session dedicated to making sure good food reaches the people who need it most. Every week\, volunteers gather to organize\, distribute\, and promote fresh\, nutritious food to local families — creating a welcoming space built on empathy\, dignity\, and connection. More than just a hand-out\, it’s a movement that builds awareness around food access\, strengthens neighbors helping neighbors\, and inspires a culture of giving back. Spread Love Sunday turns generosity into action — one Sunday\, one family\, one meal at a time.
URL:https://4dwn.org/calendar/spread-love-sunday-9/
LOCATION:4DWN\, 2663 Ferris St.\, Dallas\, TX\, 75226\, United States
CATEGORIES:Spread Love Sunday
ATTACH;FMTTYPE=image/png:https://4dwn.org/wp-content/uploads/2025/11/SpreadLove.png
END:VEVENT
BEGIN:VEVENT
DTSTART;TZID=UTC:20260118T090000
DTEND;TZID=UTC:20260118T120000
DTSTAMP:20260424T015420
CREATED:20251118T174149Z
LAST-MODIFIED:20251118T174149Z
UID:1611-1768726800-1768737600@4dwn.org
SUMMARY:Spread Love Sunday
DESCRIPTION:Spread Love Sunday is a community-powered\, non-profit session dedicated to making sure good food reaches the people who need it most. Every week\, volunteers gather to organize\, distribute\, and promote fresh\, nutritious food to local families — creating a welcoming space built on empathy\, dignity\, and connection. More than just a hand-out\, it’s a movement that builds awareness around food access\, strengthens neighbors helping neighbors\, and inspires a culture of giving back. Spread Love Sunday turns generosity into action — one Sunday\, one family\, one meal at a time.
URL:https://4dwn.org/calendar/spread-love-sunday-10/
LOCATION:4DWN\, 2663 Ferris St.\, Dallas\, TX\, 75226\, United States
CATEGORIES:Spread Love Sunday
ATTACH;FMTTYPE=image/png:https://4dwn.org/wp-content/uploads/2025/11/SpreadLove.png
END:VEVENT
BEGIN:VEVENT
DTSTART;TZID=UTC:20260125T090000
DTEND;TZID=UTC:20260125T120000
DTSTAMP:20260424T015420
CREATED:20251118T174230Z
LAST-MODIFIED:20251118T174230Z
UID:1613-1769331600-1769342400@4dwn.org
SUMMARY:Spread Love Sunday
DESCRIPTION:Spread Love Sunday is a community-powered\, non-profit session dedicated to making sure good food reaches the people who need it most. Every week\, volunteers gather to organize\, distribute\, and promote fresh\, nutritious food to local families — creating a welcoming space built on empathy\, dignity\, and connection. More than just a hand-out\, it’s a movement that builds awareness around food access\, strengthens neighbors helping neighbors\, and inspires a culture of giving back. Spread Love Sunday turns generosity into action — one Sunday\, one family\, one meal at a time.
URL:https://4dwn.org/calendar/spread-love-sunday-11/
LOCATION:4DWN\, 2663 Ferris St.\, Dallas\, TX\, 75226\, United States
CATEGORIES:Spread Love Sunday
ATTACH;FMTTYPE=image/png:https://4dwn.org/wp-content/uploads/2025/11/SpreadLove.png
END:VEVENT
END:VCALENDAR