BEGIN:VCALENDAR
VERSION:2.0
PRODID:-//4DWN - ECPv6.15.16.1//NONSGML v1.0//EN
CALSCALE:GREGORIAN
METHOD:PUBLISH
X-ORIGINAL-URL:https://4dwn.org
X-WR-CALDESC:Events for 4DWN
REFRESH-INTERVAL;VALUE=DURATION:PT1H
X-Robots-Tag:noindex
X-PUBLISHED-TTL:PT1H
BEGIN:VTIMEZONE
TZID:UTC
BEGIN:STANDARD
TZOFFSETFROM:+0000
TZOFFSETTO:+0000
TZNAME:UTC
DTSTART:20250101T000000
END:STANDARD
END:VTIMEZONE
BEGIN:VEVENT
DTSTART;TZID=UTC:20260315T090000
DTEND;TZID=UTC:20260315T120000
DTSTAMP:20260424T002431
CREATED:20260106T191315Z
LAST-MODIFIED:20260106T191315Z
UID:1773-1773565200-1773576000@4dwn.org
SUMMARY:Spread Love Sunday
DESCRIPTION:Spread Love Sunday is a community-powered\, non-profit session dedicated to making sure good food reaches the people who need it most. Every week\, volunteers gather to organize\, distribute\, and promote fresh\, nutritious food to local families — creating a welcoming space built on empathy\, dignity\, and connection. More than just a hand-out\, it’s a movement that builds awareness around food access\, strengthens neighbors helping neighbors\, and inspires a culture of giving back. Spread Love Sunday turns generosity into action — one Sunday\, one family\, one meal at a time.
URL:https://4dwn.org/calendar/spread-love-sunday-17/
LOCATION:4DWN\, 2663 Ferris St.\, Dallas\, TX\, 75226\, United States
CATEGORIES:Spread Love Sunday
ATTACH;FMTTYPE=image/png:https://4dwn.org/wp-content/uploads/2025/11/SpreadLove.png
END:VEVENT
END:VCALENDAR