BEGIN:VCALENDAR
VERSION:2.0
PRODID:-//4DWN - ECPv6.15.16.1//NONSGML v1.0//EN
CALSCALE:GREGORIAN
METHOD:PUBLISH
X-WR-CALNAME:4DWN
X-ORIGINAL-URL:https://4dwn.org
X-WR-CALDESC:Events for 4DWN
REFRESH-INTERVAL;VALUE=DURATION:PT1H
X-Robots-Tag:noindex
X-PUBLISHED-TTL:PT1H
BEGIN:VTIMEZONE
TZID:UTC
BEGIN:STANDARD
TZOFFSETFROM:+0000
TZOFFSETTO:+0000
TZNAME:UTC
DTSTART:20250101T000000
END:STANDARD
END:VTIMEZONE
BEGIN:VEVENT
DTSTART;TZID=UTC:20260215T090000
DTEND;TZID=UTC:20260215T120000
DTSTAMP:20260424T094135
CREATED:20260106T190840Z
LAST-MODIFIED:20260106T190840Z
UID:1764-1771146000-1771156800@4dwn.org
SUMMARY:Spread Love Sunday
DESCRIPTION:Spread Love Sunday is a community-powered\, non-profit session dedicated to making sure good food reaches the people who need it most. Every week\, volunteers gather to organize\, distribute\, and promote fresh\, nutritious food to local families — creating a welcoming space built on empathy\, dignity\, and connection. More than just a hand-out\, it’s a movement that builds awareness around food access\, strengthens neighbors helping neighbors\, and inspires a culture of giving back. Spread Love Sunday turns generosity into action — one Sunday\, one family\, one meal at a time.
URL:https://4dwn.org/calendar/spread-love-sunday-13/
LOCATION:4DWN\, 2663 Ferris St.\, Dallas\, TX\, 75226\, United States
CATEGORIES:Spread Love Sunday
ATTACH;FMTTYPE=image/png:https://4dwn.org/wp-content/uploads/2025/11/SpreadLove.png
END:VEVENT
BEGIN:VEVENT
DTSTART;TZID=UTC:20260222T080000
DTEND;TZID=UTC:20260222T170000
DTSTAMP:20260424T094135
CREATED:20260106T190914Z
LAST-MODIFIED:20260106T190914Z
UID:1766-1771747200-1771779600@4dwn.org
SUMMARY:Spread Love Sunday
DESCRIPTION:Spread Love Sunday is a community-powered\, non-profit session dedicated to making sure good food reaches the people who need it most. Every week\, volunteers gather to organize\, distribute\, and promote fresh\, nutritious food to local families — creating a welcoming space built on empathy\, dignity\, and connection. More than just a hand-out\, it’s a movement that builds awareness around food access\, strengthens neighbors helping neighbors\, and inspires a culture of giving back. Spread Love Sunday turns generosity into action — one Sunday\, one family\, one meal at a time.
URL:https://4dwn.org/calendar/spread-love-sunday-14/
LOCATION:4DWN\, 2663 Ferris St.\, Dallas\, TX\, 75226\, United States
CATEGORIES:Spread Love Sunday
ATTACH;FMTTYPE=image/png:https://4dwn.org/wp-content/uploads/2025/11/SpreadLove.png
END:VEVENT
BEGIN:VEVENT
DTSTART;TZID=UTC:20260301T090000
DTEND;TZID=UTC:20260301T120000
DTSTAMP:20260424T094135
CREATED:20260106T190959Z
LAST-MODIFIED:20260106T190959Z
UID:1768-1772355600-1772366400@4dwn.org
SUMMARY:Spread Love Sunday
DESCRIPTION:Spread Love Sunday is a community-powered\, non-profit session dedicated to making sure good food reaches the people who need it most. Every week\, volunteers gather to organize\, distribute\, and promote fresh\, nutritious food to local families — creating a welcoming space built on empathy\, dignity\, and connection. More than just a hand-out\, it’s a movement that builds awareness around food access\, strengthens neighbors helping neighbors\, and inspires a culture of giving back. Spread Love Sunday turns generosity into action — one Sunday\, one family\, one meal at a time.
URL:https://4dwn.org/calendar/spread-love-sunday-15/
LOCATION:4DWN\, 2663 Ferris St.\, Dallas\, TX\, 75226\, United States
CATEGORIES:Spread Love Sunday
ATTACH;FMTTYPE=image/png:https://4dwn.org/wp-content/uploads/2025/11/SpreadLove.png
END:VEVENT
BEGIN:VEVENT
DTSTART;TZID=UTC:20260308T090000
DTEND;TZID=UTC:20260308T120000
DTSTAMP:20260424T094135
CREATED:20260106T191236Z
LAST-MODIFIED:20260106T191236Z
UID:1771-1772960400-1772971200@4dwn.org
SUMMARY:Spread Love Sunday
DESCRIPTION:Spread Love Sunday is a community-powered\, non-profit session dedicated to making sure good food reaches the people who need it most. Every week\, volunteers gather to organize\, distribute\, and promote fresh\, nutritious food to local families — creating a welcoming space built on empathy\, dignity\, and connection. More than just a hand-out\, it’s a movement that builds awareness around food access\, strengthens neighbors helping neighbors\, and inspires a culture of giving back. Spread Love Sunday turns generosity into action — one Sunday\, one family\, one meal at a time.
URL:https://4dwn.org/calendar/spread-love-sunday-16/
LOCATION:4DWN\, 2663 Ferris St.\, Dallas\, TX\, 75226\, United States
CATEGORIES:Spread Love Sunday
ATTACH;FMTTYPE=image/png:https://4dwn.org/wp-content/uploads/2025/11/SpreadLove.png
END:VEVENT
BEGIN:VEVENT
DTSTART;TZID=UTC:20260315T090000
DTEND;TZID=UTC:20260315T120000
DTSTAMP:20260424T094135
CREATED:20260106T191315Z
LAST-MODIFIED:20260106T191315Z
UID:1773-1773565200-1773576000@4dwn.org
SUMMARY:Spread Love Sunday
DESCRIPTION:Spread Love Sunday is a community-powered\, non-profit session dedicated to making sure good food reaches the people who need it most. Every week\, volunteers gather to organize\, distribute\, and promote fresh\, nutritious food to local families — creating a welcoming space built on empathy\, dignity\, and connection. More than just a hand-out\, it’s a movement that builds awareness around food access\, strengthens neighbors helping neighbors\, and inspires a culture of giving back. Spread Love Sunday turns generosity into action — one Sunday\, one family\, one meal at a time.
URL:https://4dwn.org/calendar/spread-love-sunday-17/
LOCATION:4DWN\, 2663 Ferris St.\, Dallas\, TX\, 75226\, United States
CATEGORIES:Spread Love Sunday
ATTACH;FMTTYPE=image/png:https://4dwn.org/wp-content/uploads/2025/11/SpreadLove.png
END:VEVENT
BEGIN:VEVENT
DTSTART;TZID=UTC:20260322T090000
DTEND;TZID=UTC:20260322T120000
DTSTAMP:20260424T094135
CREATED:20260106T191407Z
LAST-MODIFIED:20260106T191407Z
UID:1775-1774170000-1774180800@4dwn.org
SUMMARY:Spread Love Sunday
DESCRIPTION:Spread Love Sunday is a community-powered\, non-profit session dedicated to making sure good food reaches the people who need it most. Every week\, volunteers gather to organize\, distribute\, and promote fresh\, nutritious food to local families — creating a welcoming space built on empathy\, dignity\, and connection. More than just a hand-out\, it’s a movement that builds awareness around food access\, strengthens neighbors helping neighbors\, and inspires a culture of giving back. Spread Love Sunday turns generosity into action — one Sunday\, one family\, one meal at a time.
URL:https://4dwn.org/calendar/spread-love-sunday-18/
LOCATION:4DWN\, 2663 Ferris St.\, Dallas\, TX\, 75226\, United States
CATEGORIES:Spread Love Sunday
ATTACH;FMTTYPE=image/png:https://4dwn.org/wp-content/uploads/2025/11/SpreadLove.png
END:VEVENT
BEGIN:VEVENT
DTSTART;TZID=UTC:20260329T090000
DTEND;TZID=UTC:20260329T120000
DTSTAMP:20260424T094135
CREATED:20260106T191445Z
LAST-MODIFIED:20260106T191445Z
UID:1777-1774774800-1774785600@4dwn.org
SUMMARY:Spread Love Sunday
DESCRIPTION:Spread Love Sunday is a community-powered\, non-profit session dedicated to making sure good food reaches the people who need it most. Every week\, volunteers gather to organize\, distribute\, and promote fresh\, nutritious food to local families — creating a welcoming space built on empathy\, dignity\, and connection. More than just a hand-out\, it’s a movement that builds awareness around food access\, strengthens neighbors helping neighbors\, and inspires a culture of giving back. Spread Love Sunday turns generosity into action — one Sunday\, one family\, one meal at a time.
URL:https://4dwn.org/calendar/spread-love-sunday-19/
LOCATION:4DWN\, 2663 Ferris St.\, Dallas\, TX\, 75226\, United States
CATEGORIES:Spread Love Sunday
ATTACH;FMTTYPE=image/png:https://4dwn.org/wp-content/uploads/2025/11/SpreadLove.png
END:VEVENT
BEGIN:VEVENT
DTSTART;TZID=UTC:20260405T090000
DTEND;TZID=UTC:20260405T120000
DTSTAMP:20260424T094135
CREATED:20260330T170819Z
LAST-MODIFIED:20260330T170819Z
UID:2241-1775379600-1775390400@4dwn.org
SUMMARY:Spread Love Sundays
DESCRIPTION:Spread Love Sunday is a community-powered\, non-profit session dedicated to making sure good food reaches the people who need it most. Every week\, volunteers gather to organize\, distribute\, and promote fresh\, nutritious food to local families — creating a welcoming space built on empathy\, dignity\, and connection. More than just a hand-out\, it’s a movement that builds awareness around food access\, strengthens neighbors helping neighbors\, and inspires a culture of giving back. Spread Love Sunday turns generosity into action — one Sunday\, one family\, one meal at a time.
URL:https://4dwn.org/calendar/spread-love-sundays-2/
LOCATION:4DWN\, 2663 Ferris St.\, Dallas\, TX\, 75226\, United States
CATEGORIES:Spread Love Sunday
ATTACH;FMTTYPE=image/jpeg:https://4dwn.org/wp-content/uploads/2023/03/4DWN_-178.jpg
END:VEVENT
BEGIN:VEVENT
DTSTART;TZID=UTC:20260412T090000
DTEND;TZID=UTC:20260412T120000
DTSTAMP:20260424T094135
CREATED:20260330T171009Z
LAST-MODIFIED:20260330T171009Z
UID:2243-1775984400-1775995200@4dwn.org
SUMMARY:Spread Love Sunday
DESCRIPTION:Spread Love Sunday is a community-powered\, non-profit session dedicated to making sure good food reaches the people who need it most. Every week\, volunteers gather to organize\, distribute\, and promote fresh\, nutritious food to local families — creating a welcoming space built on empathy\, dignity\, and connection. More than just a hand-out\, it’s a movement that builds awareness around food access\, strengthens neighbors helping neighbors\, and inspires a culture of giving back. Spread Love Sunday turns generosity into action — one Sunday\, one family\, one meal at a time.
URL:https://4dwn.org/calendar/spread-love-sunday-20/
LOCATION:4DWN\, 2663 Ferris St.\, Dallas\, TX\, 75226\, United States
CATEGORIES:Spread Love Sunday
ATTACH;FMTTYPE=image/jpeg:https://4dwn.org/wp-content/uploads/2023/03/4DWN_-178.jpg
END:VEVENT
BEGIN:VEVENT
DTSTART;TZID=UTC:20260419T090000
DTEND;TZID=UTC:20260419T120000
DTSTAMP:20260424T094135
CREATED:20260330T171119Z
LAST-MODIFIED:20260330T171119Z
UID:2245-1776589200-1776600000@4dwn.org
SUMMARY:Spread Love Sunday
DESCRIPTION:Spread Love Sunday is a community-powered\, non-profit session dedicated to making sure good food reaches the people who need it most. Every week\, volunteers gather to organize\, distribute\, and promote fresh\, nutritious food to local families — creating a welcoming space built on empathy\, dignity\, and connection. More than just a hand-out\, it’s a movement that builds awareness around food access\, strengthens neighbors helping neighbors\, and inspires a culture of giving back. Spread Love Sunday turns generosity into action — one Sunday\, one family\, one meal at a time.
URL:https://4dwn.org/calendar/spread-love-sunday-21/
LOCATION:4DWN\, 2663 Ferris St.\, Dallas\, TX\, 75226\, United States
CATEGORIES:Spread Love Sunday
ATTACH;FMTTYPE=image/jpeg:https://4dwn.org/wp-content/uploads/2023/03/4DWN_-178.jpg
END:VEVENT
END:VCALENDAR