BEGIN:VCALENDAR
VERSION:2.0
PRODID:-//4DWN - ECPv6.15.16.1//NONSGML v1.0//EN
CALSCALE:GREGORIAN
METHOD:PUBLISH
X-WR-CALNAME:4DWN
X-ORIGINAL-URL:https://4dwn.org
X-WR-CALDESC:Events for 4DWN
REFRESH-INTERVAL;VALUE=DURATION:PT1H
X-Robots-Tag:noindex
X-PUBLISHED-TTL:PT1H
BEGIN:VTIMEZONE
TZID:UTC
BEGIN:STANDARD
TZOFFSETFROM:+0000
TZOFFSETTO:+0000
TZNAME:UTC
DTSTART:20220101T000000
END:STANDARD
END:VTIMEZONE
BEGIN:VEVENT
DTSTART;TZID=UTC:20230326T090000
DTEND;TZID=UTC:20230326T120000
DTSTAMP:20260424T112056
CREATED:20230319T202926Z
LAST-MODIFIED:20230319T202926Z
UID:592-1679821200-1679832000@4dwn.org
SUMMARY:Sunday Service
DESCRIPTION:Join us to help feed our local community with our volunteer service that helps with sorting and packing food.
URL:https://4dwn.org/calendar/sunday-service-4/
CATEGORIES:Sunday Service
ATTACH;FMTTYPE=image/jpeg:https://4dwn.org/wp-content/uploads/2023/03/4D_Sunday-Service-Group-1600X760.jpg
END:VEVENT
BEGIN:VEVENT
DTSTART;TZID=UTC:20230319T090000
DTEND;TZID=UTC:20230319T120000
DTSTAMP:20260424T112056
CREATED:20230319T202741Z
LAST-MODIFIED:20230319T202741Z
UID:590-1679216400-1679227200@4dwn.org
SUMMARY:Sunday Service
DESCRIPTION:Join us to help feed our local community with our volunteer service that helps with sorting and packing food.
URL:https://4dwn.org/calendar/sunday-service-3/
CATEGORIES:Sunday Service
ATTACH;FMTTYPE=image/jpeg:https://4dwn.org/wp-content/uploads/2023/03/4D_Sunday-Service-Group-1600X760.jpg
END:VEVENT
BEGIN:VEVENT
DTSTART;TZID=UTC:20230312T090000
DTEND;TZID=UTC:20230312T120000
DTSTAMP:20260424T112056
CREATED:20230319T202651Z
LAST-MODIFIED:20230319T202824Z
UID:588-1678611600-1678622400@4dwn.org
SUMMARY:Sunday Service
DESCRIPTION:Join us to help feed our local community with our volunteer service that helps with sorting and packing food.
URL:https://4dwn.org/calendar/sunday-service-2/
CATEGORIES:Sunday Service
ATTACH;FMTTYPE=image/jpeg:https://4dwn.org/wp-content/uploads/2023/03/4D_Sunday-Service-Group-1600X760.jpg
END:VEVENT
BEGIN:VEVENT
DTSTART;TZID=UTC:20230305T090000
DTEND;TZID=UTC:20230305T123000
DTSTAMP:20260424T112056
CREATED:20230319T202603Z
LAST-MODIFIED:20230319T202603Z
UID:586-1678006800-1678019400@4dwn.org
SUMMARY:Sunday Service
DESCRIPTION:Join us to help feed our local community with our volunteer service that helps with sorting and packing food.
URL:https://4dwn.org/calendar/sunday-service/
CATEGORIES:Sunday Service
ATTACH;FMTTYPE=image/jpeg:https://4dwn.org/wp-content/uploads/2023/03/4D_Sunday-Service-Group-1600X760.jpg
END:VEVENT
END:VCALENDAR