BEGIN:VCALENDAR
VERSION:2.0
PRODID:-//4DWN - ECPv6.15.16.1//NONSGML v1.0//EN
CALSCALE:GREGORIAN
METHOD:PUBLISH
X-WR-CALNAME:4DWN
X-ORIGINAL-URL:https://4dwn.org
X-WR-CALDESC:Events for 4DWN
REFRESH-INTERVAL;VALUE=DURATION:PT1H
X-Robots-Tag:noindex
X-PUBLISHED-TTL:PT1H
BEGIN:VTIMEZONE
TZID:UTC
BEGIN:STANDARD
TZOFFSETFROM:+0000
TZOFFSETTO:+0000
TZNAME:UTC
DTSTART:20220101T000000
END:STANDARD
END:VTIMEZONE
BEGIN:VEVENT
DTSTART;TZID=UTC:20251220T093000
DTEND;TZID=UTC:20251220T123000
DTSTAMP:20260424T051519
CREATED:20251125T185520Z
LAST-MODIFIED:20251125T185520Z
UID:1622-1766223000-1766233800@4dwn.org
SUMMARY:4DWN Babes
DESCRIPTION:
URL:https://4dwn.org/calendar/4dwn-babes-2/
LOCATION:TX
CATEGORIES:4DWN Babes
END:VEVENT
BEGIN:VEVENT
DTSTART;TZID=UTC:20251217T160000
DTEND;TZID=UTC:20251217T190000
DTSTAMP:20260424T051519
CREATED:20251118T172232Z
LAST-MODIFIED:20251118T172232Z
UID:1585-1765987200-1765998000@4dwn.org
SUMMARY:Grill & Chill
DESCRIPTION:Grill & Chill is a free community session where skaters\, families\, and neighbors come together to eat\, skate\, connect\, and build real understanding. It’s a laid-back space that breaks down barriers and builds up belonging — sharing food\, sharing stories\, and sharing the vibe of what a stronger community can feel like. From beginners to seasoned shredders\, everyone is welcome. Grill & Chill isn’t just a hangout — it’s a spark for better conversations\, better relationships\, and a better community.
URL:https://4dwn.org/calendar/grill-chill-14/
LOCATION:4DWN\, 2663 Ferris St.\, Dallas\, TX\, 75226\, United States
CATEGORIES:Grill & Chill
ATTACH;FMTTYPE=image/png:https://4dwn.org/wp-content/uploads/2025/11/Skate.png
END:VEVENT
BEGIN:VEVENT
DTSTART;TZID=UTC:20251214T090000
DTEND;TZID=UTC:20251214T120000
DTSTAMP:20260424T051519
CREATED:20251118T173603Z
LAST-MODIFIED:20251118T173603Z
UID:1601-1765702800-1765713600@4dwn.org
SUMMARY:Spread Love Sunday
DESCRIPTION:Spread Love Sunday is a community-powered\, non-profit session dedicated to making sure good food reaches the people who need it most. Every week\, volunteers gather to organize\, distribute\, and promote fresh\, nutritious food to local families — creating a welcoming space built on empathy\, dignity\, and connection. More than just a hand-out\, it’s a movement that builds awareness around food access\, strengthens neighbors helping neighbors\, and inspires a culture of giving back. Spread Love Sunday turns generosity into action — one Sunday\, one family\, one meal at a time.
URL:https://4dwn.org/calendar/spread-love-sunday-5/
LOCATION:4DWN\, 2663 Ferris St.\, Dallas\, TX\, 75226\, United States
CATEGORIES:Spread Love Sunday
ATTACH;FMTTYPE=image/png:https://4dwn.org/wp-content/uploads/2025/11/SpreadLove.png
END:VEVENT
BEGIN:VEVENT
DTSTART;TZID=UTC:20251213T180000
DTEND;TZID=UTC:20251213T220000
DTSTAMP:20260424T051519
CREATED:20251125T190156Z
LAST-MODIFIED:20251130T045429Z
UID:1626-1765648800-1765663200@4dwn.org
SUMMARY:Shred The Mic
DESCRIPTION:
URL:https://4dwn.org/calendar/shred-the-mic/
LOCATION:4DWN\, 2663 Ferris St.\, Dallas\, TX\, 75226\, United States
CATEGORIES:Shred The Mic
ATTACH;FMTTYPE=image/jpeg:https://4dwn.org/wp-content/uploads/2025/11/IMG_4409.jpeg
END:VEVENT
BEGIN:VEVENT
DTSTART;TZID=UTC:20251210T160000
DTEND;TZID=UTC:20251210T190000
DTSTAMP:20260424T051519
CREATED:20251118T172130Z
LAST-MODIFIED:20251118T172130Z
UID:1583-1765382400-1765393200@4dwn.org
SUMMARY:Grill & Chill
DESCRIPTION:Grill & Chill is a free community session where skaters\, families\, and neighbors come together to eat\, skate\, connect\, and build real understanding. It’s a laid-back space that breaks down barriers and builds up belonging — sharing food\, sharing stories\, and sharing the vibe of what a stronger community can feel like. From beginners to seasoned shredders\, everyone is welcome. Grill & Chill isn’t just a hangout — it’s a spark for better conversations\, better relationships\, and a better community.
URL:https://4dwn.org/calendar/grill-chill-13/
LOCATION:4DWN\, 2663 Ferris St.\, Dallas\, TX\, 75226\, United States
CATEGORIES:Grill & Chill
ATTACH;FMTTYPE=image/png:https://4dwn.org/wp-content/uploads/2025/11/Skate.png
END:VEVENT
BEGIN:VEVENT
DTSTART;TZID=UTC:20251207T090000
DTEND;TZID=UTC:20251207T120000
DTSTAMP:20260424T051519
CREATED:20251118T173500Z
LAST-MODIFIED:20251118T173500Z
UID:1599-1765098000-1765108800@4dwn.org
SUMMARY:Spread Love Sunday
DESCRIPTION:Spread Love Sunday is a community-powered\, non-profit session dedicated to making sure good food reaches the people who need it most. Every week\, volunteers gather to organize\, distribute\, and promote fresh\, nutritious food to local families — creating a welcoming space built on empathy\, dignity\, and connection. More than just a hand-out\, it’s a movement that builds awareness around food access\, strengthens neighbors helping neighbors\, and inspires a culture of giving back. Spread Love Sunday turns generosity into action — one Sunday\, one family\, one meal at a time.
URL:https://4dwn.org/calendar/spread-love-sunday-4/
LOCATION:4DWN\, 2663 Ferris St.\, Dallas\, TX\, 75226\, United States
CATEGORIES:Spread Love Sunday
ATTACH;FMTTYPE=image/png:https://4dwn.org/wp-content/uploads/2025/11/SpreadLove.png
END:VEVENT
BEGIN:VEVENT
DTSTART;TZID=UTC:20251205T190000
DTEND;TZID=UTC:20251205T220000
DTSTAMP:20260424T051519
CREATED:20251125T185419Z
LAST-MODIFIED:20251129T155940Z
UID:1620-1764961200-1764972000@4dwn.org
SUMMARY:4DWN Babes
DESCRIPTION:
URL:https://4dwn.org/calendar/4dwn-babes/
LOCATION:4DWN\, 2663 Ferris St.\, Dallas\, TX\, 75226\, United States
CATEGORIES:4DWN Babes
END:VEVENT
BEGIN:VEVENT
DTSTART;TZID=UTC:20251203T160000
DTEND;TZID=UTC:20251203T190000
DTSTAMP:20260424T051519
CREATED:20251118T172044Z
LAST-MODIFIED:20251118T172151Z
UID:1581-1764777600-1764788400@4dwn.org
SUMMARY:Grill & Chill
DESCRIPTION:Grill & Chill is a free community session where skaters\, families\, and neighbors come together to eat\, skate\, connect\, and build real understanding. It’s a laid-back space that breaks down barriers and builds up belonging — sharing food\, sharing stories\, and sharing the vibe of what a stronger community can feel like. From beginners to seasoned shredders\, everyone is welcome. Grill & Chill isn’t just a hangout — it’s a spark for better conversations\, better relationships\, and a better community.
URL:https://4dwn.org/calendar/grill-chill-12/
LOCATION:4DWN\, 2663 Ferris St.\, Dallas\, TX\, 75226\, United States
CATEGORIES:Grill & Chill
ATTACH;FMTTYPE=image/png:https://4dwn.org/wp-content/uploads/2025/11/Skate.png
END:VEVENT
BEGIN:VEVENT
DTSTART;TZID=UTC:20251130T090000
DTEND;TZID=UTC:20251130T120000
DTSTAMP:20260424T051519
CREATED:20251118T171607Z
LAST-MODIFIED:20251118T171607Z
UID:1576-1764493200-1764504000@4dwn.org
SUMMARY:Spread Love Sunday
DESCRIPTION:Spread Love Sunday is a community-powered\, non-profit session dedicated to making sure good food reaches the people who need it most. Every week\, volunteers gather to organize\, distribute\, and promote fresh\, nutritious food to local families — creating a welcoming space built on empathy\, dignity\, and connection. More than just a hand-out\, it’s a movement that builds awareness around food access\, strengthens neighbors helping neighbors\, and inspires a culture of giving back. Spread Love Sunday turns generosity into action — one Sunday\, one family\, one meal at a time.
URL:https://4dwn.org/calendar/spread-love-sunday-3/
LOCATION:4DWN\, 2663 Ferris St.\, Dallas\, TX\, 75226\, United States
CATEGORIES:Spread Love Sunday
ATTACH;FMTTYPE=image/png:https://4dwn.org/wp-content/uploads/2025/11/SpreadLove.png
END:VEVENT
BEGIN:VEVENT
DTSTART;TZID=UTC:20251126T160000
DTEND;TZID=UTC:20251126T190000
DTSTAMP:20260424T051519
CREATED:20251118T171821Z
LAST-MODIFIED:20251118T171821Z
UID:1579-1764172800-1764183600@4dwn.org
SUMMARY:Grill & Chill
DESCRIPTION:Grill & Chill is a free community session where skaters\, families\, and neighbors come together to eat\, skate\, connect\, and build real understanding. It’s a laid-back space that breaks down barriers and builds up belonging — sharing food\, sharing stories\, and sharing the vibe of what a stronger community can feel like. From beginners to seasoned shredders\, everyone is welcome. Grill & Chill isn’t just a hangout — it’s a spark for better conversations\, better relationships\, and a better community.
URL:https://4dwn.org/calendar/grill-chill-11/
LOCATION:4DWN\, 2663 Ferris St.\, Dallas\, TX\, 75226\, United States
ATTACH;FMTTYPE=image/png:https://4dwn.org/wp-content/uploads/2025/11/Skate.png
END:VEVENT
BEGIN:VEVENT
DTSTART;TZID=UTC:20251123T090000
DTEND;TZID=UTC:20251123T120000
DTSTAMP:20260424T051519
CREATED:20251116T192334Z
LAST-MODIFIED:20251116T192334Z
UID:1572-1763888400-1763899200@4dwn.org
SUMMARY:Spread Love Sunday
DESCRIPTION:Spread Love Sunday is a community-powered\, non-profit session dedicated to making sure good food reaches the people who need it most. Every week\, volunteers gather to organize\, distribute\, and promote fresh\, nutritious food to local families — creating a welcoming space built on empathy\, dignity\, and connection. More than just a hand-out\, it’s a movement that builds awareness around food access\, strengthens neighbors helping neighbors\, and inspires a culture of giving back. Spread Love Sunday turns generosity into action — one Sunday\, one family\, one meal at a time.
URL:https://4dwn.org/calendar/spread-love-sunday-2/
LOCATION:4DWN\, 2663 Ferris St.\, Dallas\, TX\, 75226\, United States
CATEGORIES:Spread Love Sunday
ATTACH;FMTTYPE=image/png:https://4dwn.org/wp-content/uploads/2025/11/SpreadLove.png
END:VEVENT
BEGIN:VEVENT
DTSTART;TZID=UTC:20251119T160000
DTEND;TZID=UTC:20251119T190000
DTSTAMP:20260424T051519
CREATED:20251116T192044Z
LAST-MODIFIED:20251116T192044Z
UID:1570-1763568000-1763578800@4dwn.org
SUMMARY:Grill & Chill
DESCRIPTION:Grill & Chill is a free community session where skaters\, families\, and neighbors come together to eat\, skate\, connect\, and build real understanding. It’s a laid-back space that breaks down barriers and builds up belonging — sharing food\, sharing stories\, and sharing the vibe of what a stronger community can feel like. From beginners to seasoned shredders\, everyone is welcome. Grill & Chill isn’t just a hangout — it’s a spark for better conversations\, better relationships\, and a better community.
URL:https://4dwn.org/calendar/grill-chill-10/
LOCATION:4DWN\, 2663 Ferris St.\, Dallas\, TX\, 75226\, United States
CATEGORIES:Grill & Chill
ATTACH;FMTTYPE=image/png:https://4dwn.org/wp-content/uploads/2025/11/Skate.png
END:VEVENT
BEGIN:VEVENT
DTSTART;TZID=UTC:20251112T160000
DTEND;TZID=UTC:20251112T190000
DTSTAMP:20260424T051519
CREATED:20251107T182021Z
LAST-MODIFIED:20251107T185145Z
UID:1538-1762963200-1762974000@4dwn.org
SUMMARY:Grill & Chill
DESCRIPTION:Grill & Chill is a free community session where skaters\, families\, and neighbors come together to eat\, skate\, connect\, and build real understanding. It’s a laid-back space that breaks down barriers and builds up belonging — sharing food\, sharing stories\, and sharing the vibe of what a stronger community can feel like. From beginners to seasoned shredders\, everyone is welcome. Grill & Chill isn’t just a hangout — it’s a spark for better conversations\, better relationships\, and a better community.
URL:https://4dwn.org/calendar/grill-chill-9/
LOCATION:TX
CATEGORIES:Grill & Chill
ATTACH;FMTTYPE=image/png:https://4dwn.org/wp-content/uploads/2025/11/Skate.png
END:VEVENT
BEGIN:VEVENT
DTSTART;TZID=UTC:20251109T090000
DTEND;TZID=UTC:20251109T120000
DTSTAMP:20260424T051519
CREATED:20251107T181933Z
LAST-MODIFIED:20251107T184806Z
UID:1536-1762678800-1762689600@4dwn.org
SUMMARY:Spread Love Sunday
DESCRIPTION:Spread Love Sunday is a community-powered\, non-profit session dedicated to making sure good food reaches the people who need it most. Every week\, volunteers gather to organize\, distribute\, and promote fresh\, nutritious food to local families — creating a welcoming space built on empathy\, dignity\, and connection. More than just a hand-out\, it’s a movement that builds awareness around food access\, strengthens neighbors helping neighbors\, and inspires a culture of giving back. Spread Love Sunday turns generosity into action — one Sunday\, one family\, one meal at a time.
URL:https://4dwn.org/calendar/spread-love-sunday/
LOCATION:4DWN\, 2663 Ferris St.\, Dallas\, TX\, 75226\, United States
CATEGORIES:Spread Love Sunday
ATTACH;FMTTYPE=image/png:https://4dwn.org/wp-content/uploads/2025/11/SpreadLove.png
END:VEVENT
BEGIN:VEVENT
DTSTART;TZID=UTC:20240316T180000
DTEND;TZID=UTC:20240316T200000
DTSTAMP:20260424T051519
CREATED:20240315T132333Z
LAST-MODIFIED:20240315T132814Z
UID:1019-1710612000-1710619200@4dwn.org
SUMMARY:(re)Generation
DESCRIPTION:
URL:https://4dwn.org/calendar/regeneration/
LOCATION:TX
CATEGORIES:Special Event
ATTACH;FMTTYPE=image/jpeg:https://4dwn.org/wp-content/uploads/2024/03/regeneration.jpeg
END:VEVENT
BEGIN:VEVENT
DTSTART;TZID=UTC:20240225T090000
DTEND;TZID=UTC:20240225T120000
DTSTAMP:20260424T051519
CREATED:20231230T023706Z
LAST-MODIFIED:20231230T023722Z
UID:978-1708851600-1708862400@4dwn.org
SUMMARY:Sunday Food Rescue
DESCRIPTION:You’re invited to the cookout! Come celebrate the end of Black history month at the Green Groove Gathering!
URL:https://4dwn.org/calendar/sunday-food-rescue-2/
LOCATION:4DWN\, 2663 Ferris St.\, Dallas\, TX\, 75226\, United States
CATEGORIES:Sunday Service
END:VEVENT
BEGIN:VEVENT
DTSTART;TZID=UTC:20240218T080000
DTEND;TZID=UTC:20240218T170000
DTSTAMP:20260424T051519
CREATED:20231230T023107Z
LAST-MODIFIED:20231230T023107Z
UID:974-1708243200-1708275600@4dwn.org
SUMMARY:Sunday Food Rescue
DESCRIPTION:Dora Brought Plenty Artwear Show
URL:https://4dwn.org/calendar/sunday-food-rescue/
LOCATION:TX
CATEGORIES:Sunday Service
END:VEVENT
BEGIN:VEVENT
DTSTART;VALUE=DATE:20240218
DTEND;VALUE=DATE:20240219
DTSTAMP:20260424T051519
CREATED:20231230T023238Z
LAST-MODIFIED:20231230T023914Z
UID:976-1708214400-1708300799@4dwn.org
SUMMARY:Robs Birthday
DESCRIPTION:
URL:https://4dwn.org/calendar/robs-birthday/
LOCATION:4DWN\, 2663 Ferris St.\, Dallas\, TX\, 75226\, United States
CATEGORIES:Special Event
END:VEVENT
BEGIN:VEVENT
DTSTART;TZID=UTC:20240207T160000
DTEND;TZID=UTC:20240207T190000
DTSTAMP:20260424T051519
CREATED:20231230T022704Z
LAST-MODIFIED:20231230T022837Z
UID:971-1707321600-1707332400@4dwn.org
SUMMARY:Community Corner
DESCRIPTION:BRIDGE BUILDERS\nRestoring Hope. Transforming Communities. \n 
URL:https://4dwn.org/calendar/community-corner/
LOCATION:TX
CATEGORIES:Special Event
END:VEVENT
BEGIN:VEVENT
DTSTART;TZID=UTC:20240204T090000
DTEND;TZID=UTC:20240204T120000
DTSTAMP:20260424T051519
CREATED:20231230T022119Z
LAST-MODIFIED:20231230T022204Z
UID:969-1707037200-1707048000@4dwn.org
SUMMARY:First Sunday Celebration
DESCRIPTION:Sustainable Challenge Award Ceremony
URL:https://4dwn.org/calendar/first-sunday-celebration-2/
LOCATION:4DWN\, 2663 Ferris St.\, Dallas\, TX\, 75226\, United States
CATEGORIES:Sunday Service
END:VEVENT
BEGIN:VEVENT
DTSTART;TZID=UTC:20240107T090000
DTEND;TZID=UTC:20240107T120000
DTSTAMP:20260424T051519
CREATED:20231230T020612Z
LAST-MODIFIED:20231230T020903Z
UID:966-1704618000-1704628800@4dwn.org
SUMMARY:First Sunday Celebration
DESCRIPTION:Sustainable Culinary Challenge – From Rescue to Innovation announcement. \nEvent Brite link
URL:https://4dwn.org/calendar/first-sunday-celebration/
LOCATION:4DWN\, 2663 Ferris St.\, Dallas\, TX\, 75226\, United States
CATEGORIES:Sunday Service
END:VEVENT
BEGIN:VEVENT
DTSTART;TZID=UTC:20230826T170000
DTEND;TZID=UTC:20230826T220000
DTSTAMP:20260424T051519
CREATED:20230811T131956Z
LAST-MODIFIED:20230811T132212Z
UID:927-1693069200-1693087200@4dwn.org
SUMMARY:Alchxmy
DESCRIPTION:
URL:https://4dwn.org/calendar/alchxmy/
LOCATION:Hickory Street Annex\, 501 S Second Ave #200\, Dallas\, Texas\, 75226
CATEGORIES:Special Event
ATTACH;FMTTYPE=image/jpeg:https://4dwn.org/wp-content/uploads/2023/08/ALCHXMY-FLYER-RSVP.jpeg
END:VEVENT
BEGIN:VEVENT
DTSTART;TZID=UTC:20230816T070000
DTEND;TZID=UTC:20230816T220000
DTSTAMP:20260424T051519
CREATED:20230813T231718Z
LAST-MODIFIED:20230813T232047Z
UID:934-1692169200-1692223200@4dwn.org
SUMMARY:Grill & Chill
DESCRIPTION:
URL:https://4dwn.org/calendar/grill-chill-8/
LOCATION:Jon Comer Skate Park\, 1010 W. Miller Rd.\, Garland\, texas\, 75041
CATEGORIES:Grill & Chill
ATTACH;FMTTYPE=image/png:https://4dwn.org/wp-content/uploads/2023/08/GC_Aug15_v2.png
END:VEVENT
BEGIN:VEVENT
DTSTART;TZID=UTC:20230806T090000
DTEND;TZID=UTC:20230806T130000
DTSTAMP:20260424T051519
CREATED:20230804T030553Z
LAST-MODIFIED:20230804T030908Z
UID:917-1691312400-1691326800@4dwn.org
SUMMARY:First Sunday 4DWN Food Rescue
DESCRIPTION:
URL:https://4dwn.org/calendar/first-sunday-4dwn-food-rescue/
LOCATION:4DWN\, 2663 Ferris St.\, Dallas\, TX\, 75226\, United States
CATEGORIES:Sunday Service
ATTACH;FMTTYPE=image/png:https://4dwn.org/wp-content/uploads/2023/08/08.06.23-Visual-Updated.png
END:VEVENT
BEGIN:VEVENT
DTSTART;TZID=UTC:20230705T190000
DTEND;TZID=UTC:20230705T220000
DTSTAMP:20260424T051519
CREATED:20230705T184944Z
LAST-MODIFIED:20230705T185225Z
UID:904-1688583600-1688594400@4dwn.org
SUMMARY:Grill & Chill - Fire Station Skate Park
DESCRIPTION:
URL:https://4dwn.org/calendar/grill-chill-fire-station-skate-park/
LOCATION:Fire Station Skate Park\, 1616 Hemphill St\, Ft. Worth\, Texas\, 76104
CATEGORIES:Grill & Chill,Special Event
ATTACH;FMTTYPE=image/jpeg:https://4dwn.org/wp-content/uploads/2023/07/IMG_0718.jpg
END:VEVENT
BEGIN:VEVENT
DTSTART;TZID=UTC:20230625T133000
DTEND;TZID=UTC:20230625T143000
DTSTAMP:20260424T051519
CREATED:20230614T144311Z
LAST-MODIFIED:20230614T151810Z
UID:860-1687699800-1687703400@4dwn.org
SUMMARY:4DWN - A film by Danny Schmidt
DESCRIPTION:EarthX Films presents:\n4DWN – a film by Danny Schmidt \nOak Cliff Film Festival\nKessler Theater \nTickets: OCFF2023.eventive.org/FILMS
URL:https://4dwn.org/calendar/4dwn-documentary/
LOCATION:Kessler Theater\, 1230 W. Davis St.\, Dallas\, 75208\, United States
CATEGORIES:Special Event
ATTACH;FMTTYPE=image/jpeg:https://4dwn.org/wp-content/uploads/2023/06/4dwnsocial_linik.jpg
END:VEVENT
BEGIN:VEVENT
DTSTART;VALUE=DATE:20230624
DTEND;VALUE=DATE:20230626
DTSTAMP:20260424T051519
CREATED:20230624T014018Z
LAST-MODIFIED:20230624T020153Z
UID:870-1687564800-1687737599@4dwn.org
SUMMARY:4DWN Documentary - FREE Ticket
DESCRIPTION:Send requests for FREE ticket to info@4dwn.com
URL:https://4dwn.org/calendar/4dwn-documentary-free-ticket/
LOCATION:Kessler Theater\, 1230 W. Davis St.\, Dallas\, 75208\, United States
CATEGORIES:Special Event
ATTACH;FMTTYPE=image/jpeg:https://4dwn.org/wp-content/uploads/2023/06/Black-White-Film-Frame-Flowers-Your-Story-1.jpg
END:VEVENT
BEGIN:VEVENT
DTSTART;VALUE=DATE:20230602
DTEND;VALUE=DATE:20230604
DTSTAMP:20260424T051519
CREATED:20230601T112815Z
LAST-MODIFIED:20230601T113243Z
UID:855-1685664000-1685836799@4dwn.org
SUMMARY:Taste Addison
DESCRIPTION:It’s time for Taste Addison! \nJoin us June 2-3\, 2023!
URL:https://4dwn.org/calendar/taste-addison/
LOCATION:Addison Circle\, 4970 Addison Circle\, Addison\, Texas\, 75001
CATEGORIES:Special Event
ATTACH;FMTTYPE=image/jpeg:https://4dwn.org/wp-content/uploads/2023/06/Taste23_FBCover.jpg
END:VEVENT
BEGIN:VEVENT
DTSTART;TZID=UTC:20230520T150000
DTEND;TZID=UTC:20230520T190000
DTSTAMP:20260424T051519
CREATED:20230517T135608Z
LAST-MODIFIED:20230517T135804Z
UID:844-1684594800-1684609200@4dwn.org
SUMMARY:Zumiez More Than Rolling
DESCRIPTION:Dallas\, come hang this weekend! @4dwn_org on Saturday from 3-7pm. #morethanrolling is skateboarding and so much more! RSVP: \nhttps://www.eventbrite.com/e/zumiez-more-than-rolling-dallas-tickets-626574670707?utm-campaign=social&utm-content=attendeeshare&utm-medium=discovery&utm-term=listing&utm-source=cp&aff=escb \n 
URL:https://4dwn.org/calendar/844/
LOCATION:4DWN\, 2663 Ferris St.\, Dallas\, TX\, 75226\, United States
CATEGORIES:Special Event
ATTACH;FMTTYPE=image/png:https://4dwn.org/wp-content/uploads/2023/05/Zummies_Party.png
END:VEVENT
BEGIN:VEVENT
DTSTART;TZID=UTC:20230507T090000
DTEND;TZID=UTC:20230507T120000
DTSTAMP:20260424T051519
CREATED:20230505T105648Z
LAST-MODIFIED:20230505T143852Z
UID:796-1683450000-1683460800@4dwn.org
SUMMARY:First Sunday Service
DESCRIPTION:Chef Roodie – Gourmet Tacos\n Luquan- Wellness
URL:https://4dwn.org/calendar/first-sunday-service/
LOCATION:4DWN\, 2663 Ferris St.\, Dallas\, TX\, 75226\, United States
CATEGORIES:Sunday Service
ATTACH;FMTTYPE=image/jpeg:https://4dwn.org/wp-content/uploads/2023/05/4D_Social_Sun_May_7_2023.jpg
END:VEVENT
END:VCALENDAR